BEGIN:VCALENDAR
VERSION:2.0
PRODID:-//Winter Park Presbyterian Preschool - ECPv6.15.17.1//NONSGML v1.0//EN
CALSCALE:GREGORIAN
METHOD:PUBLISH
X-WR-CALNAME:Winter Park Presbyterian Preschool
X-ORIGINAL-URL:https://www.wppps.org
X-WR-CALDESC:Events for Winter Park Presbyterian Preschool
REFRESH-INTERVAL;VALUE=DURATION:PT1H
X-Robots-Tag:noindex
X-PUBLISHED-TTL:PT1H
BEGIN:VTIMEZONE
TZID:America/New_York
BEGIN:DAYLIGHT
TZOFFSETFROM:-0500
TZOFFSETTO:-0400
TZNAME:EDT
DTSTART:20250309T070000
END:DAYLIGHT
BEGIN:STANDARD
TZOFFSETFROM:-0400
TZOFFSETTO:-0500
TZNAME:EST
DTSTART:20251102T060000
END:STANDARD
BEGIN:DAYLIGHT
TZOFFSETFROM:-0500
TZOFFSETTO:-0400
TZNAME:EDT
DTSTART:20260308T070000
END:DAYLIGHT
BEGIN:STANDARD
TZOFFSETFROM:-0400
TZOFFSETTO:-0500
TZNAME:EST
DTSTART:20261101T060000
END:STANDARD
BEGIN:DAYLIGHT
TZOFFSETFROM:-0500
TZOFFSETTO:-0400
TZNAME:EDT
DTSTART:20270314T070000
END:DAYLIGHT
BEGIN:STANDARD
TZOFFSETFROM:-0400
TZOFFSETTO:-0500
TZNAME:EST
DTSTART:20271107T060000
END:STANDARD
END:VTIMEZONE
BEGIN:VEVENT
DTSTART;TZID=America/New_York:20260527T091500
DTEND;TZID=America/New_York:20260527T101500
DTSTAMP:20260425T183522
CREATED:20260302T194924Z
LAST-MODIFIED:20260319T185129Z
UID:10000068-1779873300-1779876900@www.wppps.org
SUMMARY:PAC Meeting
DESCRIPTION:
URL:https://www.wppps.org/event/pac-meeting/2026-05-27/
LOCATION:Winter Park Presbyterian Preschool\, 400 S. Lakemont Ave.\, Winter Park\, Florida\, 32792\, United States
ORGANIZER;CN="Winter Park Presbyterian Preschool":MAILTO:info@winppc.org
END:VEVENT
BEGIN:VEVENT
DTSTART;TZID=America/New_York:20260624T091500
DTEND;TZID=America/New_York:20260624T101500
DTSTAMP:20260425T183522
CREATED:20260302T194924Z
LAST-MODIFIED:20260319T185129Z
UID:10000069-1782292500-1782296100@www.wppps.org
SUMMARY:PAC Meeting
DESCRIPTION:
URL:https://www.wppps.org/event/pac-meeting/2026-06-24/
LOCATION:Winter Park Presbyterian Preschool\, 400 S. Lakemont Ave.\, Winter Park\, Florida\, 32792\, United States
ORGANIZER;CN="Winter Park Presbyterian Preschool":MAILTO:info@winppc.org
END:VEVENT
BEGIN:VEVENT
DTSTART;TZID=America/New_York:20260722T091500
DTEND;TZID=America/New_York:20260722T101500
DTSTAMP:20260425T183522
CREATED:20260302T194924Z
LAST-MODIFIED:20260319T185129Z
UID:10000070-1784711700-1784715300@www.wppps.org
SUMMARY:PAC Meeting
DESCRIPTION:
URL:https://www.wppps.org/event/pac-meeting/2026-07-22/
LOCATION:Winter Park Presbyterian Preschool\, 400 S. Lakemont Ave.\, Winter Park\, Florida\, 32792\, United States
ORGANIZER;CN="Winter Park Presbyterian Preschool":MAILTO:info@winppc.org
END:VEVENT
BEGIN:VEVENT
DTSTART;TZID=America/New_York:20260826T091500
DTEND;TZID=America/New_York:20260826T101500
DTSTAMP:20260425T183522
CREATED:20260302T194924Z
LAST-MODIFIED:20260319T185129Z
UID:10000071-1787735700-1787739300@www.wppps.org
SUMMARY:PAC Meeting
DESCRIPTION:
URL:https://www.wppps.org/event/pac-meeting/2026-08-26/
LOCATION:Winter Park Presbyterian Preschool\, 400 S. Lakemont Ave.\, Winter Park\, Florida\, 32792\, United States
ORGANIZER;CN="Winter Park Presbyterian Preschool":MAILTO:info@winppc.org
END:VEVENT
BEGIN:VEVENT
DTSTART;TZID=America/New_York:20260923T091500
DTEND;TZID=America/New_York:20260923T101500
DTSTAMP:20260425T183522
CREATED:20260302T194924Z
LAST-MODIFIED:20260319T185129Z
UID:10000072-1790154900-1790158500@www.wppps.org
SUMMARY:PAC Meeting
DESCRIPTION:
URL:https://www.wppps.org/event/pac-meeting/2026-09-23/
LOCATION:Winter Park Presbyterian Preschool\, 400 S. Lakemont Ave.\, Winter Park\, Florida\, 32792\, United States
ORGANIZER;CN="Winter Park Presbyterian Preschool":MAILTO:info@winppc.org
END:VEVENT
BEGIN:VEVENT
DTSTART;TZID=America/New_York:20261028T091500
DTEND;TZID=America/New_York:20261028T101500
DTSTAMP:20260425T183522
CREATED:20260302T194924Z
LAST-MODIFIED:20260319T185129Z
UID:10000073-1793178900-1793182500@www.wppps.org
SUMMARY:PAC Meeting
DESCRIPTION:
URL:https://www.wppps.org/event/pac-meeting/2026-10-28/
LOCATION:Winter Park Presbyterian Preschool\, 400 S. Lakemont Ave.\, Winter Park\, Florida\, 32792\, United States
ORGANIZER;CN="Winter Park Presbyterian Preschool":MAILTO:info@winppc.org
END:VEVENT
BEGIN:VEVENT
DTSTART;TZID=America/New_York:20261125T091500
DTEND;TZID=America/New_York:20261125T101500
DTSTAMP:20260425T183522
CREATED:20260302T194924Z
LAST-MODIFIED:20260319T185129Z
UID:10000074-1795598100-1795601700@www.wppps.org
SUMMARY:PAC Meeting
DESCRIPTION:
URL:https://www.wppps.org/event/pac-meeting/2026-11-25/
LOCATION:Winter Park Presbyterian Preschool\, 400 S. Lakemont Ave.\, Winter Park\, Florida\, 32792\, United States
ORGANIZER;CN="Winter Park Presbyterian Preschool":MAILTO:info@winppc.org
END:VEVENT
BEGIN:VEVENT
DTSTART;TZID=America/New_York:20261223T091500
DTEND;TZID=America/New_York:20261223T101500
DTSTAMP:20260425T183522
CREATED:20260302T194924Z
LAST-MODIFIED:20260319T185129Z
UID:10000075-1798017300-1798020900@www.wppps.org
SUMMARY:PAC Meeting
DESCRIPTION:
URL:https://www.wppps.org/event/pac-meeting/2026-12-23/
LOCATION:Winter Park Presbyterian Preschool\, 400 S. Lakemont Ave.\, Winter Park\, Florida\, 32792\, United States
ORGANIZER;CN="Winter Park Presbyterian Preschool":MAILTO:info@winppc.org
END:VEVENT
END:VCALENDAR